BEGIN:VCALENDAR
VERSION:2.0
PRODID:-//Hand in Hand - ECPv6.15.20//NONSGML v1.0//EN
CALSCALE:GREGORIAN
METHOD:PUBLISH
X-ORIGINAL-URL:https://www.hand-in-hand.org
X-WR-CALDESC:Veranstaltungen für Hand in Hand
REFRESH-INTERVAL;VALUE=DURATION:PT1H
X-Robots-Tag:noindex
X-PUBLISHED-TTL:PT1H
BEGIN:VTIMEZONE
TZID:Europe/Berlin
BEGIN:DAYLIGHT
TZOFFSETFROM:+0100
TZOFFSETTO:+0200
TZNAME:CEST
DTSTART:20250330T010000
END:DAYLIGHT
BEGIN:STANDARD
TZOFFSETFROM:+0200
TZOFFSETTO:+0100
TZNAME:CET
DTSTART:20251026T010000
END:STANDARD
BEGIN:DAYLIGHT
TZOFFSETFROM:+0100
TZOFFSETTO:+0200
TZNAME:CEST
DTSTART:20260329T010000
END:DAYLIGHT
BEGIN:STANDARD
TZOFFSETFROM:+0200
TZOFFSETTO:+0100
TZNAME:CET
DTSTART:20261025T010000
END:STANDARD
BEGIN:DAYLIGHT
TZOFFSETFROM:+0100
TZOFFSETTO:+0200
TZNAME:CEST
DTSTART:20270328T010000
END:DAYLIGHT
BEGIN:STANDARD
TZOFFSETFROM:+0200
TZOFFSETTO:+0100
TZNAME:CET
DTSTART:20271031T010000
END:STANDARD
END:VTIMEZONE
BEGIN:VEVENT
DTSTART;TZID=Europe/Berlin:20260306T173000
DTEND;TZID=Europe/Berlin:20260306T173000
DTSTAMP:20260425T140930
CREATED:20251121T115921Z
LAST-MODIFIED:20260204T170041Z
UID:17124-1772818200-1772818200@www.hand-in-hand.org
SUMMARY:Hartwig Henkel in Clenze (Wendland)   -  Gemeinde nach Gottes Plan
DESCRIPTION: 
URL:https://www.hand-in-hand.org/termin/hartwig-henkel-in-clenze-wendland/
END:VEVENT
BEGIN:VEVENT
DTSTART;TZID=Europe/Berlin:20260320T190000
DTEND;TZID=Europe/Berlin:20260322T123000
DTSTAMP:20260425T140930
CREATED:20251121T120558Z
LAST-MODIFIED:20260317T102452Z
UID:17127-1774033200-1774182600@www.hand-in-hand.org
SUMMARY:Frei von Süchten   - Hartwig & Elke Henkel in Pasewalk
DESCRIPTION:20.-22.3.2026\nChristliches Glaubenszentrum Pasewalk
URL:https://www.hand-in-hand.org/termin/hartwig-elke-henkel-in-pasewalk/
END:VEVENT
END:VCALENDAR