BEGIN:VCALENDAR
VERSION:2.0
PRODID:-//Hand in Hand - ECPv6.15.20//NONSGML v1.0//EN
CALSCALE:GREGORIAN
METHOD:PUBLISH
X-WR-CALNAME:Hand in Hand
X-ORIGINAL-URL:https://www.hand-in-hand.org
X-WR-CALDESC:Veranstaltungen für Hand in Hand
REFRESH-INTERVAL;VALUE=DURATION:PT1H
X-Robots-Tag:noindex
X-PUBLISHED-TTL:PT1H
BEGIN:VTIMEZONE
TZID:Europe/Berlin
BEGIN:DAYLIGHT
TZOFFSETFROM:+0100
TZOFFSETTO:+0200
TZNAME:CEST
DTSTART:20240331T010000
END:DAYLIGHT
BEGIN:STANDARD
TZOFFSETFROM:+0200
TZOFFSETTO:+0100
TZNAME:CET
DTSTART:20241027T010000
END:STANDARD
BEGIN:DAYLIGHT
TZOFFSETFROM:+0100
TZOFFSETTO:+0200
TZNAME:CEST
DTSTART:20250330T010000
END:DAYLIGHT
BEGIN:STANDARD
TZOFFSETFROM:+0200
TZOFFSETTO:+0100
TZNAME:CET
DTSTART:20251026T010000
END:STANDARD
BEGIN:DAYLIGHT
TZOFFSETFROM:+0100
TZOFFSETTO:+0200
TZNAME:CEST
DTSTART:20260329T010000
END:DAYLIGHT
BEGIN:STANDARD
TZOFFSETFROM:+0200
TZOFFSETTO:+0100
TZNAME:CET
DTSTART:20261025T010000
END:STANDARD
END:VTIMEZONE
BEGIN:VEVENT
DTSTART;TZID=Europe/Berlin:20251207T180000
DTEND;TZID=Europe/Berlin:20251212T100000
DTSTAMP:20260425T182953
CREATED:20240822T100359Z
LAST-MODIFIED:20250823T095827Z
UID:15805-1765130400-1765533600@www.hand-in-hand.org
SUMMARY:Hartwig & Elke Henkel  Der Schatz der Gottesfurcht
DESCRIPTION:Imst / Tirol Haus des Lebens\n\nFür nähere Infos bitte hier klicken.
URL:https://www.hand-in-hand.org/termin/hartwig-elke-henkel-imst-tirol-haus-des-lebens-2/
END:VEVENT
END:VCALENDAR