BEGIN:VCALENDAR
VERSION:2.0
PRODID:-//Hand in Hand - ECPv6.15.20//NONSGML v1.0//EN
CALSCALE:GREGORIAN
METHOD:PUBLISH
X-WR-CALNAME:Hand in Hand
X-ORIGINAL-URL:https://www.hand-in-hand.org
X-WR-CALDESC:Veranstaltungen für Hand in Hand
REFRESH-INTERVAL;VALUE=DURATION:PT1H
X-Robots-Tag:noindex
X-PUBLISHED-TTL:PT1H
BEGIN:VTIMEZONE
TZID:Europe/Berlin
BEGIN:DAYLIGHT
TZOFFSETFROM:+0100
TZOFFSETTO:+0200
TZNAME:CEST
DTSTART:20240331T010000
END:DAYLIGHT
BEGIN:STANDARD
TZOFFSETFROM:+0200
TZOFFSETTO:+0100
TZNAME:CET
DTSTART:20241027T010000
END:STANDARD
BEGIN:DAYLIGHT
TZOFFSETFROM:+0100
TZOFFSETTO:+0200
TZNAME:CEST
DTSTART:20250330T010000
END:DAYLIGHT
BEGIN:STANDARD
TZOFFSETFROM:+0200
TZOFFSETTO:+0100
TZNAME:CET
DTSTART:20251026T010000
END:STANDARD
BEGIN:DAYLIGHT
TZOFFSETFROM:+0100
TZOFFSETTO:+0200
TZNAME:CEST
DTSTART:20260329T010000
END:DAYLIGHT
BEGIN:STANDARD
TZOFFSETFROM:+0200
TZOFFSETTO:+0100
TZNAME:CET
DTSTART:20261025T010000
END:STANDARD
END:VTIMEZONE
BEGIN:VEVENT
DTSTART;TZID=Europe/Berlin:20251002T190000
DTEND;TZID=Europe/Berlin:20251004T130000
DTSTAMP:20260425T210148
CREATED:20240814T204326Z
LAST-MODIFIED:20250619T140818Z
UID:15728-1759431600-1759582800@www.hand-in-hand.org
SUMMARY:Seminar PREDIGE DAS WORT      Salzgitter Bad
DESCRIPTION:Ermutigung und praktische Hilfe für alle\, die im Dienst der Verkündigung stehen\nNähere Infos:\nhih_seminar_predigedaswort_2025
URL:https://www.hand-in-hand.org/termin/seminar-predige-das-wort-salzgitter-bad/
END:VEVENT
BEGIN:VEVENT
DTSTART;TZID=Europe/Berlin:20251017T180000
DTEND;TZID=Europe/Berlin:20251019T130000
DTSTAMP:20260425T210148
CREATED:20241217T163149Z
LAST-MODIFIED:20250816T164414Z
UID:16291-1760724000-1760878800@www.hand-in-hand.org
SUMMARY:Den König in Seiner Schönheit sehen - Wie wir das größte Gebot erfüllen können
DESCRIPTION:Hand in Hand-Seminar 17. – 19.10.25 Bad Endbach bei Marburg /\n\nMit Unterbringung im Seminarhaus.  Nähere Infos zu Kosten und Anmeldung bitte die Grafik anklicken.
URL:https://www.hand-in-hand.org/termin/hand-in-hand-seminar-17-19-9-25-band-endbach-bei-marburg/
END:VEVENT
END:VCALENDAR